BEGIN:VCALENDAR
PRODID:-//kirchenweb.ch gmbh//veranstaltungsausgabe v2.0//DE
VERSION:2.0
METHOD:PUBLISH
BEGIN:VEVENT
DTSTART:20270214T083000Z
DTEND:20270214T093000Z
LOCATION:Stadtkirche\, Sandstrasse 25\, 8750 Glarus
TRANSP:OPAQUE
SEQUENCE:0
UID:29421-veranstaltung@ref-gl.ch
DTSTAMP:20260421T111129Z
DESCRIPTION:Kontakt: marianne.horner@ref-gl.ch\n\nWeitere Infos:
  https://www.ref-gl.ch/veranstaltung/29421
SUMMARY:Fasnachts-Gottesdienst mit den Tümpelgumpern aus Linthal und dem
  Pfarrehepaar Dagmar und Sebastian Doll
PRIORITY:5
X-MICROSOFT-CDO-IMPORTANCE:1
CLASS:PUBLIC
END:VEVENT
END:VCALENDAR
