BEGIN:VCALENDAR
PRODID:-//kirchenweb.ch gmbh//veranstaltungsausgabe v2.0//DE
VERSION:2.0
METHOD:PUBLISH
BEGIN:VEVENT
DTSTART:20260809T093000Z
DTEND:20260809T103000Z
LOCATION:Kirche Klöntal\, \,
TRANSP:OPAQUE
SEQUENCE:0
UID:29417-veranstaltung@ref-gl.ch
DTSTAMP:20260421T103052Z
DESCRIPTION:Kontakt: marianne.horner@ref-gl.ch\n\nWeitere Infos:
  https://www.ref-gl.ch/veranstaltung/29417
SUMMARY:Gottesdienst mit Pfarrerin Dagmar Doll
PRIORITY:5
X-MICROSOFT-CDO-IMPORTANCE:1
CLASS:PUBLIC
END:VEVENT
END:VCALENDAR
