BEGIN:VCALENDAR
PRODID:-//kirchenweb.ch gmbh//veranstaltungsausgabe v2.0//DE
VERSION:2.0
METHOD:PUBLISH
BEGIN:VEVENT
DTSTART;VALUE=DATE:20261201
DTEND;VALUE=DATE:20261202
LOCATION:Basel\, \,
TRANSP:OPAQUE
SEQUENCE:0
UID:29287-veranstaltung@ref-gl.ch
DTSTAMP:20260316T213901Z
DESCRIPTION:Tagesausflug nach Basel zum Weihnachtsmarkt\n\nGlarus
  Stadtkirche ab: 8:30 Uhr (nach Bedarf sind auch andere Einstiegsorte
  möglich)\n\nFahrt mit dem Car nach Basel\, anschliessend Besuch des
  Weihnachtsmarktes (Mittagessen individuell)\nKosten Fr. 35.-- inkl.
  Kaffeehalt und Carfahrt.\n\n\n\nKontakt: marianne.horner@ref-gl.ch\n
 \nWeitere Infos: https://www.ref-gl.ch/veranstaltung/29287
SUMMARY:Seniorenausflug Weihnachtsmarkt
PRIORITY:5
X-MICROSOFT-CDO-IMPORTANCE:1
CLASS:PUBLIC
END:VEVENT
END:VCALENDAR
