BEGIN:VCALENDAR
PRODID:-//kirchenweb.ch gmbh//veranstaltungsausgabe v2.0//DE
VERSION:2.0
METHOD:PUBLISH
BEGIN:VEVENT
DTSTART;VALUE=DATE:20260625
DTEND;VALUE=DATE:20260626
LOCATION:Furkapass\, \,
TRANSP:OPAQUE
SEQUENCE:0
UID:29286-veranstaltung@ref-gl.ch
DTSTAMP:20260316T211336Z
DESCRIPTION:Tagesausflug mit der Dampfbahn über den Furkapass\nGlarus
  Stadtkirche ab: 9:00 Uhr (nach Bedarf sind auch andere Einstiegsorte
  möglich)\n\nFahrt mit dem Car nach Andermatt (gemeinsames Mittagessen)\,
  mit der Furkadampfbahn Realp - Oberwald\, weiter mit dem Car über
  Grimsel und Brünig mit Apérostopp zurück ins Glarnerland\n(Ankunft ca.
  21:00 Uhr)\nKosten Fr. 80.-- inkl. Mittagessen\, Bahn- und Carfahrt.\n
 \nKontakt: marianne.horner@ref-gl.ch\n\nWeitere Infos:
  https://www.ref-gl.ch/veranstaltung/29286
SUMMARY:Seniorenausflug Dampfbahn
PRIORITY:5
X-MICROSOFT-CDO-IMPORTANCE:1
CLASS:PUBLIC
END:VEVENT
END:VCALENDAR
