BEGIN:VCALENDAR
PRODID:-//kirchenweb.ch gmbh//veranstaltungsausgabe v2.0//DE
VERSION:2.0
METHOD:PUBLISH
BEGIN:VEVENT
DTSTART:20261206T163000Z
DTEND:20261206T173000Z
LOCATION:Stadtkirche\, Sandstrasse 25\, 8750 Glarus
TRANSP:OPAQUE
SEQUENCE:0
UID:29283-veranstaltung@ref-gl.ch
DTSTAMP:20260325T165757Z
DESCRIPTION:Kontakt: marianne.horner@ref-gl.ch\n\nWeitere Infos:
  https://www.ref-gl.ch/veranstaltung/29283
SUMMARY:Gospelkonzert GLIS
PRIORITY:5
X-MICROSOFT-CDO-IMPORTANCE:1
CLASS:PUBLIC
END:VEVENT
END:VCALENDAR
