BEGIN:VCALENDAR
PRODID:-//kirchenweb.ch gmbh//veranstaltungsausgabe v2.0//DE
VERSION:2.0
METHOD:PUBLISH
BEGIN:VEVENT
DTSTART:20260502T060000Z
DTEND:20260502T070000Z
LOCATION:Gerichtshaus\, \,
TRANSP:OPAQUE
SEQUENCE:0
UID:29188-veranstaltung@ref-gl.ch
DTSTAMP:20260305T204956Z
DESCRIPTION:Kontakt: marianne.horner@ref-gl.ch\n\nWeitere Infos:
  https://www.ref-gl.ch/veranstaltung/29188
SUMMARY:Stand am Landsgemeindeflohmarkt
PRIORITY:5
X-MICROSOFT-CDO-IMPORTANCE:1
CLASS:PUBLIC
END:VEVENT
END:VCALENDAR
