BEGIN:VCALENDAR
PRODID:-//kirchenweb.ch gmbh//veranstaltungsausgabe v2.0//DE
VERSION:2.0
METHOD:PUBLISH
BEGIN:VEVENT
DTSTART:20260523T070000Z
DTEND:20260523T090000Z
LOCATION:Stadtkirche\, Sandstrasse 25\, 8750 Glarus
TRANSP:OPAQUE
SEQUENCE:0
UID:29186-veranstaltung@ref-gl.ch
DTSTAMP:20260303T100706Z
DESCRIPTION:"Pfingsten."\nWusstet ihr\, dass es auf unserem Dachboden viel
  zu entdecken gibt? Nein? Dann schaut doch vorbei.  Natürlich basteln wir
  auch wieder etwas und spielen miteinander.\nEin feines Znüni darf
  natürlich auch nicht fehlen.\nWenn du in den Kindergarten gehst oder in
  die 1. Klasse und Lust hast\, dann freuen wir uns auf dich.\nWir treffen
  uns am 23. Mai von 9:00 - 11:00 Uhr an der grossen Stadtkirche in Glarus.
 \nBis bald.\nDeine Dagmar und Freya\n\nKontakt: marianne.horner@ref-gl.ch
 \n\nWeitere Infos: https://www.ref-gl.ch/veranstaltung/29186
SUMMARY:Dachbodengeschichten - Geschichten aus der Bibel für
  Kindergartenkinder und Erstklässler
PRIORITY:5
X-MICROSOFT-CDO-IMPORTANCE:1
CLASS:PUBLIC
END:VEVENT
END:VCALENDAR
