BEGIN:VCALENDAR
PRODID:-//kirchenweb.ch gmbh//veranstaltungsausgabe v2.0//DE
VERSION:2.0
METHOD:PUBLISH
BEGIN:VEVENT
DTSTART:20260815T170000Z
DTEND:20260815T180000Z
LOCATION:Stadtkirche\, \,
TRANSP:OPAQUE
SEQUENCE:0
UID:29105-veranstaltung@ref-gl.ch
DTSTAMP:20260227T124322Z
DESCRIPTION:Kontakt: marianne.horner@ref-gl.ch\n\nWeitere Infos:
  https://www.ref-gl.ch/veranstaltung/29105
SUMMARY:Konzert Jugendmusik Glarus\, bei schönem Wetter vor der
  Stadtkirche\, anschliessend Apéro
PRIORITY:5
X-MICROSOFT-CDO-IMPORTANCE:1
CLASS:PUBLIC
END:VEVENT
END:VCALENDAR
