BEGIN:VCALENDAR
PRODID:-//kirchenweb.ch gmbh//veranstaltungsausgabe v2.0//DE
VERSION:2.0
METHOD:PUBLISH
BEGIN:VEVENT
DTSTART:20260923T093000Z
DTEND:20260923T103000Z
LOCATION:Rheinfelden\, \,
TRANSP:OPAQUE
SEQUENCE:0
UID:29104-veranstaltung@ref-gl.ch
DTSTAMP:20260316T212505Z
DESCRIPTION:Halbtagesausflug\nFahrt mit Pferdekutschen durch die Quartiere
  von Rheinfelden\, weiter durch Wald und Felder Richtung Möhlin\n\nGlarus
  Stadtkirche ab: 11:30 Uhr (nach Bedarf sind auch andere Eintiegsorte
  möglich)\n\nFahrt mit dem Car nach Rheinfelden\, anschliessend
  Kutschenfahrt und gemeinsames Zvieri.\nKosten Fr. 50.-- inkl. Zvieri\,
  Kutschen- und Carfahrt.\n\nKontakt: marianne.horner@ref-gl.ch\n\nWeitere
  Infos: https://www.ref-gl.ch/veranstaltung/29104
SUMMARY:Seniorenausflug Pferde
PRIORITY:5
X-MICROSOFT-CDO-IMPORTANCE:1
CLASS:PUBLIC
END:VEVENT
END:VCALENDAR
