BEGIN:VCALENDAR
PRODID:-//kirchenweb.ch gmbh//veranstaltungsausgabe v2.0//DE
VERSION:2.0
METHOD:PUBLISH
BEGIN:VEVENT
DTSTART;VALUE=DATE:20260429
DTEND;VALUE=DATE:20260430
LOCATION:Appenzellerland\, \,
TRANSP:OPAQUE
SEQUENCE:0
UID:29102-veranstaltung@ref-gl.ch
DTSTAMP:20260316T210330Z
DESCRIPTION:Tagesausflug nach Appenzell und Greifvogelshow\nGlarus
  Stadtkirche ab: 8:00 Uhr (nach Bedarf sind auch andere Einstiegsorte
  möglich)\n\nFahrt mit dem Car nach Appenzell (Aufenthalt)\, gemeinsames
  Mittagessen im Rest. Schnuggebock\,\nam Nachmittag Greifvogelshow in
  Buchs.\nKosten Fr. 65.-- inkl. Eintritt\, Mittagessen und Carfahrt.\n
 \nKontakt: marianne.horner@ref-gl.ch\n\nWeitere Infos:
  https://www.ref-gl.ch/veranstaltung/29102
SUMMARY:Seniorenausflug Appenzell und Greifvogelshow
PRIORITY:5
X-MICROSOFT-CDO-IMPORTANCE:1
CLASS:PUBLIC
END:VEVENT
END:VCALENDAR
