BEGIN:VCALENDAR
PRODID:-//kirchenweb.ch gmbh//veranstaltungsausgabe v2.0//DE
VERSION:2.0
METHOD:PUBLISH
BEGIN:VEVENT
DTSTART:20261227T180000Z
DTEND:20261227T190000Z
LOCATION:Stadtkirche\, Sandstrasse 25\, 8750 Glarus
TRANSP:OPAQUE
SEQUENCE:0
UID:28996-veranstaltung@ref-gl.ch
DTSTAMP:20260203T110820Z
DESCRIPTION:Kontakt: marianne.horner@ref-gl.ch\n\nWeitere Infos:
  https://www.ref-gl.ch/veranstaltung/28996
SUMMARY:Jodelgottesdienst mit Pfarrer Sebastian Doll und dem Jodelklub
  Glärnisch
PRIORITY:5
X-MICROSOFT-CDO-IMPORTANCE:1
CLASS:PUBLIC
END:VEVENT
END:VCALENDAR
