BEGIN:VCALENDAR
PRODID:-//kirchenweb.ch gmbh//veranstaltungsausgabe v2.0//DE
VERSION:2.0
METHOD:PUBLISH
BEGIN:VEVENT
DTSTART:20260930T120000Z
DTEND:20260930T140000Z
LOCATION:Kirchgemeindehaus Glarus\, Gerichtshausstrasse 55\, 8750 Glarus
TRANSP:OPAQUE
SEQUENCE:0
UID:28743-veranstaltung@ref-gl.ch
DTSTAMP:20260114T145025Z
DESCRIPTION:Wir freuen uns auf Ihr Kommen.\nRosmarie Weber\, Pfrn. Dagmar
  und Pfr. Sebastian Doll.\nFür den Fahrdienst ab Alterszentrum Bergli
  (13:45) steht Taxi Bezzola kostenlos zur Verfügung.\n\nKontakt:
  marianne.horner@ref-gl.ch\n\nWeitere Infos:
  https://www.ref-gl.ch/veranstaltung/28743
SUMMARY:Seniorenkreis
PRIORITY:5
X-MICROSOFT-CDO-IMPORTANCE:1
CLASS:PUBLIC
END:VEVENT
END:VCALENDAR
