BEGIN:VCALENDAR
PRODID:-//kirchenweb.ch gmbh//veranstaltungsausgabe v2.0//DE
VERSION:2.0
METHOD:PUBLISH
BEGIN:VEVENT
DTSTART:20261224T160000Z
DTEND:20261224T170000Z
LOCATION:Stadtkirche\, Sandstrasse 25\, 8750 Glarus
TRANSP:OPAQUE
SEQUENCE:0
UID:28582-veranstaltung@ref-gl.ch
DTSTAMP:20251222T010605Z
DESCRIPTION:Kontakt: marianne.horner@ref-gl.ch\n\nWeitere Infos:
  https://www.ref-gl.ch/veranstaltung/28582
SUMMARY:Familiengottesdienst  zum Heiligabend mit Pfarrerin Dagmar und
  Pfarrer Sebastian Doll
PRIORITY:5
X-MICROSOFT-CDO-IMPORTANCE:1
CLASS:PUBLIC
END:VEVENT
END:VCALENDAR
