BEGIN:VCALENDAR
PRODID:-//kirchenweb.ch gmbh//veranstaltungsausgabe v2.0//DE
VERSION:2.0
METHOD:PUBLISH
BEGIN:VEVENT
DTSTART:20260619T080000Z
DTEND:20260619T090000Z
LOCATION:Alterszentrum Bergli\, \,
TRANSP:OPAQUE
SEQUENCE:0
UID:28197-veranstaltung@ref-gl.ch
DTSTAMP:20260112T222539Z
DESCRIPTION:Kontakt: Frau Pfarrerin Dagmar Doll\n\nWeitere Infos:
  https://www.ref-gl.ch/veranstaltung/28197
SUMMARY:Morgenbesinnung Thema "Muscheln in unserer Hand"\, Pfarrerin
  Dagmar Doll und Lara Schaffner\, Klavier
PRIORITY:5
X-MICROSOFT-CDO-IMPORTANCE:1
CLASS:PUBLIC
END:VEVENT
END:VCALENDAR
