BEGIN:VCALENDAR
PRODID:-//kirchenweb.ch gmbh//veranstaltungsausgabe v2.0//DE
VERSION:2.0
METHOD:PUBLISH
BEGIN:VEVENT
DTSTART:20260604T073000Z
DTEND:20260604T083000Z
LOCATION:Evangelisch-methodistische Kirche\, Glarus\, \,
TRANSP:OPAQUE
SEQUENCE:0
UID:28188-veranstaltung@ref-gl.ch
DTSTAMP:20251111T172438Z
DESCRIPTION:Kontakt: marianne.horner@ref-gl.ch\n\nWeitere Infos:
  https://www.ref-gl.ch/veranstaltung/28188
SUMMARY:Muki -Treff
PRIORITY:5
X-MICROSOFT-CDO-IMPORTANCE:1
CLASS:PUBLIC
END:VEVENT
END:VCALENDAR
