BEGIN:VCALENDAR
PRODID:-//kirchenweb.ch gmbh//veranstaltungsausgabe v2.0//DE
VERSION:2.0
METHOD:PUBLISH
BEGIN:VEVENT
DTSTART:20260616T120000Z
DTEND:20260616T140000Z
LOCATION:Fridolinsheim Glarus\, \,
TRANSP:OPAQUE
SEQUENCE:0
UID:27602-veranstaltung@ref-gl.ch
DTSTAMP:20251026T134439Z
DESCRIPTION:Kontakt: marianne.horner@ref-gl.ch\n\nWeitere Infos:
  https://www.ref-gl.ch/veranstaltung/27602
SUMMARY:ökumenischer Spielnachmittag
PRIORITY:5
X-MICROSOFT-CDO-IMPORTANCE:1
CLASS:PUBLIC
END:VEVENT
END:VCALENDAR
