BEGIN:VCALENDAR
PRODID:-//kirchenweb.ch gmbh//veranstaltungsausgabe v2.0//DE
VERSION:2.0
METHOD:PUBLISH
BEGIN:VEVENT
DTSTART:20260508T170000Z
DTEND:20260508T180000Z
LOCATION:Stadtkirche\, Sandstrasse 25\, 8750 Glarus
TRANSP:OPAQUE
SEQUENCE:0
UID:26861-veranstaltung@ref-gl.ch
DTSTAMP:20260421T110654Z
DESCRIPTION:WITH MORE THAN A HUNDRED PIPES\nFASZINATION ORGEL IN DER
  STADTKIRCHE AM 8. MAI 2026 UM 19.00 UHR\nHANSPETER OGGIER (PANFLÖTE) UND
  SARAH BRUNNER (ORGEL)\nDie folgenreichste Umarmung der Musikgeschichte
  beschreibt Ovid in seinen Metamorphosen. Der Hirtengott Pan begehrt die
  Nymphe Syrinx und stellt ihr nach. In dem Moment\, als er sie zu umarmen
  meint\, verwandelt sie sich mit Hilfe ihrer Schwestern in ein Schilfrohr.
  Pan ist fasziniert von den zarten klagenden Tönen\, die durch den Wind
  vom Schilfrohr erzeugt werden\, und bricht Stücke unterschiedlicher
  Länger heraus\, mit denen er ein Instrument formt. Die Panflöte war
  erfunden. \nWie sehr hätte der lebensfrohe Pan wohl gestaunt\, hätte er
  eine Orgel erblickt. Eine Panflöte im Grossformat sozusagen. Wie gut die
  beiden Instrumente zusammenpassen und wie eindrücklich sie zu einem
  Grossinstrument zusammenwachsen können\, beweisen der Panflötist
  Hanspeter Oggier und die Organistin Sarah Brunner mit Musik
  unterschiedlichster Provenienz. So vereint das Programm „With More Than
  A Hundred Pipes“ barocke Favoriten und traditionelle Musik aus
  Rumänien mit Medleys von ABBA und der Zauberflöte bis hin zu
  ungarischen Tänzen\, eingerichtet für den fesselnden Klang von
  Panflöte und Orgel.\nNach dem Konzert sind Sie zu einem Apéro im
  Treff.Seitenschiff eingeladen. Der Eintritt ist frei\, eine Kollekte wird
  erhoben.\n\n\n\nKontakt: marianne.horner@ref-gl.ch\n\nWeitere Infos:
  https://www.ref-gl.ch/veranstaltung/26861
SUMMARY:Faszination Orgel "With more than a hundred pipes"\, Hanspeter
  Oggier (Panflöte) und Sarah Brunner (Orgel)
PRIORITY:5
X-MICROSOFT-CDO-IMPORTANCE:1
CLASS:PUBLIC
END:VEVENT
END:VCALENDAR
