BEGIN:VCALENDAR
PRODID:-//kirchenweb.ch gmbh//veranstaltungsausgabe v2.0//DE
VERSION:2.0
METHOD:PUBLISH
BEGIN:VEVENT
DTSTART:20260506T120000Z
DTEND:20260506T140000Z
LOCATION:Jugendkeller Kirchgemeindehaus\, Gerichtshausstrasse 55\, 8750
  Glarus
TRANSP:OPAQUE
SEQUENCE:0
UID:26856-veranstaltung@ref-gl.ch
DTSTAMP:20251110T222015Z
DESCRIPTION:Fr. 12.-- inkl. Zvieri\nMir bastled ä Ueberraschig für ds
  Mami (Basteln ohne Mami).\n\nKontakt: Frau Jette Blumer\n\nWeitere Infos:
  https://www.ref-gl.ch/veranstaltung/26856
SUMMARY:creaktiv - Muttertagsbasteln
PRIORITY:5
X-MICROSOFT-CDO-IMPORTANCE:1
CLASS:PUBLIC
END:VEVENT
END:VCALENDAR
