BEGIN:VCALENDAR
PRODID:-//kirchenweb.ch gmbh//veranstaltungsausgabe v2.0//DE
VERSION:2.0
METHOD:PUBLISH
BEGIN:VEVENT
DTSTART:20261209T130000Z
DTEND:20261209T150000Z
LOCATION:Kirchgemeindehaus Glarus\, Gerichtshausstrasse 55\, 8750 Glarus
TRANSP:OPAQUE
SEQUENCE:0
UID:26848-veranstaltung@ref-gl.ch
DTSTAMP:20251216T100428Z
DESCRIPTION:Kontakt: Christine Dettwiler\n\nWeitere Infos:
  https://www.ref-gl.ch/veranstaltung/26848
SUMMARY:Kinder-Treff Kino
PRIORITY:5
X-MICROSOFT-CDO-IMPORTANCE:1
CLASS:PUBLIC
END:VEVENT
END:VCALENDAR
