BEGIN:VCALENDAR
PRODID:-//kirchenweb.ch gmbh//veranstaltungsausgabe v2.0//DE
VERSION:2.0
METHOD:PUBLISH
BEGIN:VEVENT
DTSTART;VALUE=DATE:20260603
DTEND;VALUE=DATE:20260604
LOCATION:.\, \,
TRANSP:OPAQUE
SEQUENCE:0
UID:26831-veranstaltung@ref-gl.ch
DTSTAMP:20250716T220041Z
DESCRIPTION:Sep. Einladung\, Anmeldung erforderlich.\n\nKontakt:
  marianne.horner@ref-gl.ch\n\nWeitere Infos:
  https://www.ref-gl.ch/veranstaltung/26831
SUMMARY:Halbtagesausflug Seniorenkreis
PRIORITY:5
X-MICROSOFT-CDO-IMPORTANCE:1
CLASS:PUBLIC
END:VEVENT
END:VCALENDAR
